BEGIN:VCALENDAR
VERSION:2.0
PRODID:-//Tukios.com/
BEGIN:VEVENT
UID:50b915a5-0359-44e6-b18f-a60ec7c09a05@www.potterfuneralhome.com
DTSTAMP:20260425T022847Z
DTSTART:20260628T160000Z
DTEND:20260628T200000Z
SUMMARY:Celebration of Life
DESCRIPTION:
URL:https://www.potterfuneralhome.com/obituaries/robert-theriault
LOCATION:Fin, Fur & Feather Club 213 Chewink Road  Chaplin CT 06235
GEO:41.7599589;-72.1228405
END:VEVENT
END:VCALENDAR