BEGIN:VCALENDAR
VERSION:2.0
PRODID:-//Tukios.com/
BEGIN:VEVENT
UID:0ac8b09d-2d4b-4bb9-bf94-94f57f3d690f@www.potterfuneralhome.com
DTSTAMP:20260420T222911Z
DTSTART:20260426T180000Z
DTEND:20260426T200000Z
SUMMARY:Visitation
DESCRIPTION:
URL:https://www.potterfuneralhome.com/obituaries/john-horvath-iii
LOCATION: 456 Jackson St  Windham CT 06226
GEO:41.7227662;-72.2030972
END:VEVENT
END:VCALENDAR